BEGIN:VCALENDAR
VERSION:2.0
PRODID:-//Commodore Yachting - ECPv6.15.17.1//NONSGML v1.0//EN
CALSCALE:GREGORIAN
METHOD:PUBLISH
X-WR-CALNAME:Commodore Yachting
X-ORIGINAL-URL:https://commodore-yachting.com
X-WR-CALDESC:Events for Commodore Yachting
REFRESH-INTERVAL;VALUE=DURATION:PT1H
X-Robots-Tag:noindex
X-PUBLISHED-TTL:PT1H
BEGIN:VTIMEZONE
TZID:Europe/London
BEGIN:DAYLIGHT
TZOFFSETFROM:+0000
TZOFFSETTO:+0100
TZNAME:BST
DTSTART:20250330T010000
END:DAYLIGHT
BEGIN:STANDARD
TZOFFSETFROM:+0100
TZOFFSETTO:+0000
TZNAME:GMT
DTSTART:20251026T010000
END:STANDARD
BEGIN:DAYLIGHT
TZOFFSETFROM:+0000
TZOFFSETTO:+0100
TZNAME:BST
DTSTART:20260329T010000
END:DAYLIGHT
BEGIN:STANDARD
TZOFFSETFROM:+0100
TZOFFSETTO:+0000
TZNAME:GMT
DTSTART:20261025T010000
END:STANDARD
BEGIN:DAYLIGHT
TZOFFSETFROM:+0000
TZOFFSETTO:+0100
TZNAME:BST
DTSTART:20270328T010000
END:DAYLIGHT
BEGIN:STANDARD
TZOFFSETFROM:+0100
TZOFFSETTO:+0000
TZNAME:GMT
DTSTART:20271031T010000
END:STANDARD
END:VTIMEZONE
BEGIN:VEVENT
DTSTART;TZID=Europe/London:20260225T090000
DTEND;TZID=Europe/London:20260301T170000
DTSTAMP:20260421T140941
CREATED:20250912T201337Z
LAST-MODIFIED:20250912T201637Z
UID:10001321-1772010000-1772384400@commodore-yachting.com
SUMMARY:RYA Coastal Skipper / RYA Competent Crew Practical - £799
DESCRIPTION:RYA Coastal Skipper / RYA Competent Crew Practical \nConducted over 5 continuous days\, you’ll visit various different ports and marinas in the stunningly beautiful Solent (and further afield!)\, under the watchful eye of one of our patient and attentive RYA-qualified Instructors. \nYou’ll get to experience the best sailing the Solent & south coast has to offer\, whilst eating and sleeping aboard one of our fabulous Bavaria Fleet Yachts each evening.
URL:https://commodore-yachting.com/course/rya-coastal-skipper-practical-25-02-25/
LOCATION:Premier Gosport Marina\, Mumby Road\, Gosport\, Hampshire\, PO12 1AH
CATEGORIES:RYA Coastal Skipper,RYA Competent Crew,RYA Practical Courses
ORGANIZER;CN="Commodore Yachting":MAILTO:info@commodore-yachting.com
END:VEVENT
END:VCALENDAR