BEGIN:VCALENDAR
VERSION:2.0
PRODID:-//Commodore Yachting - ECPv6.15.17.1//NONSGML v1.0//EN
CALSCALE:GREGORIAN
METHOD:PUBLISH
X-ORIGINAL-URL:https://commodore-yachting.com
X-WR-CALDESC:Events for Commodore Yachting
REFRESH-INTERVAL;VALUE=DURATION:PT1H
X-Robots-Tag:noindex
X-PUBLISHED-TTL:PT1H
BEGIN:VTIMEZONE
TZID:Europe/London
BEGIN:DAYLIGHT
TZOFFSETFROM:+0000
TZOFFSETTO:+0100
TZNAME:BST
DTSTART:20250330T010000
END:DAYLIGHT
BEGIN:STANDARD
TZOFFSETFROM:+0100
TZOFFSETTO:+0000
TZNAME:GMT
DTSTART:20251026T010000
END:STANDARD
BEGIN:DAYLIGHT
TZOFFSETFROM:+0000
TZOFFSETTO:+0100
TZNAME:BST
DTSTART:20260329T010000
END:DAYLIGHT
BEGIN:STANDARD
TZOFFSETFROM:+0100
TZOFFSETTO:+0000
TZNAME:GMT
DTSTART:20261025T010000
END:STANDARD
BEGIN:DAYLIGHT
TZOFFSETFROM:+0000
TZOFFSETTO:+0100
TZNAME:BST
DTSTART:20270328T010000
END:DAYLIGHT
BEGIN:STANDARD
TZOFFSETFROM:+0100
TZOFFSETTO:+0000
TZNAME:GMT
DTSTART:20271031T010000
END:STANDARD
END:VTIMEZONE
BEGIN:VEVENT
DTSTART;TZID=Europe/London:20260429T090000
DTEND;TZID=Europe/London:20260503T160000
DTSTAMP:20260420T151501
CREATED:20250912T133246Z
LAST-MODIFIED:20250912T133523Z
UID:10001285-1777453200-1777824000@commodore-yachting.com
SUMMARY:RYA Competent Crew / RYA Day Skipper - £749
DESCRIPTION:RYA Competent Crew / Day Skipper practical sailing course. \nConducted over 5 continuous days\, you’ll visit various different ports and marinas in the stunningly beautiful Solent\, under the watchful eye of one of our patient and attentive RYA-qualified Instructors. \nYou’ll get to experience the best sailing the Solent has to offer\, whilst eating and sleeping aboard one of our fabulous Bavaria Fleet Yachts each evening.
URL:https://commodore-yachting.com/course/rya-competent-crew-29-04-26/
LOCATION:Premier Gosport Marina\, Mumby Road\, Gosport\, Hampshire\, PO12 1AH
CATEGORIES:RYA Competent Crew,RYA Day Skipper,RYA Practical Courses
ORGANIZER;CN="Commodore Yachting":MAILTO:info@commodore-yachting.com
END:VEVENT
BEGIN:VEVENT
DTSTART;TZID=Europe/London:20260502T090000
DTEND;TZID=Europe/London:20260510T160000
DTSTAMP:20260420T151502
CREATED:20251216T175701Z
LAST-MODIFIED:20260417T124021Z
UID:10001388-1777712400-1778428800@commodore-yachting.com
SUMMARY:RYA Competent Crew / RYA Day Skipper (Split Weekends) – £799
DESCRIPTION:RYA Competent Crew / Day Skipper practical sailing course. \nConducted over 2 split weekends (Check dates above and below for exact course format)\, you’ll visit various different ports and marinas in the stunningly beautiful Solent\, under the watchful eye of one of our patient and attentive RYA-qualified Instructors. \nYou’ll get to experience the best sailing the Solent has to offer\, whilst eating and sleeping aboard one of our fabulous Bavaria Fleet Yachts each evening.
URL:https://commodore-yachting.com/course/rya-competent-crew-02-05-26/
LOCATION:Premier Gosport Marina\, Mumby Road\, Gosport\, Hampshire\, PO12 1AH
CATEGORIES:RYA Competent Crew,RYA Day Skipper,RYA Practical Courses
ORGANIZER;CN="Commodore Yachting":MAILTO:info@commodore-yachting.com
END:VEVENT
BEGIN:VEVENT
DTSTART;TZID=Europe/London:20260504T090000
DTEND;TZID=Europe/London:20260508T160000
DTSTAMP:20260420T151502
CREATED:20250912T133542Z
LAST-MODIFIED:20250912T133952Z
UID:10001286-1777885200-1778256000@commodore-yachting.com
SUMMARY:RYA Competent Crew / RYA Day Skipper - £749
DESCRIPTION:RYA Competent Crew / Day Skipper practical sailing course. \nConducted over 5 continuous days\, you’ll visit various different ports and marinas in the stunningly beautiful Solent\, under the watchful eye of one of our patient and attentive RYA-qualified Instructors. \nYou’ll get to experience the best sailing the Solent has to offer\, whilst eating and sleeping aboard one of our fabulous Bavaria Fleet Yachts each evening.
URL:https://commodore-yachting.com/course/rya-competent-crew-04-05-26/
LOCATION:Premier Gosport Marina\, Mumby Road\, Gosport\, Hampshire\, PO12 1AH
CATEGORIES:RYA Competent Crew,RYA Day Skipper,RYA Practical Courses
ORGANIZER;CN="Commodore Yachting":MAILTO:info@commodore-yachting.com
END:VEVENT
BEGIN:VEVENT
DTSTART;TZID=Europe/London:20260513T090000
DTEND;TZID=Europe/London:20260517T160000
DTSTAMP:20260420T151502
CREATED:20250912T134032Z
LAST-MODIFIED:20250912T134344Z
UID:10001287-1778662800-1779033600@commodore-yachting.com
SUMMARY:RYA Competent Crew / RYA Day Skipper - £749
DESCRIPTION:RYA Competent Crew / Day Skipper practical sailing course. \nConducted over 5 continuous days\, you’ll visit various different ports and marinas in the stunningly beautiful Solent\, under the watchful eye of one of our patient and attentive RYA-qualified Instructors. \nYou’ll get to experience the best sailing the Solent has to offer\, whilst eating and sleeping aboard one of our fabulous Bavaria Fleet Yachts each evening.
URL:https://commodore-yachting.com/course/rya-competent-crew-13-05-26/
LOCATION:Premier Gosport Marina\, Mumby Road\, Gosport\, Hampshire\, PO12 1AH
CATEGORIES:RYA Competent Crew,RYA Day Skipper,RYA Practical Courses
ORGANIZER;CN="Commodore Yachting":MAILTO:info@commodore-yachting.com
END:VEVENT
BEGIN:VEVENT
DTSTART;TZID=Europe/London:20260518T090000
DTEND;TZID=Europe/London:20260522T160000
DTSTAMP:20260420T151502
CREATED:20250912T134402Z
LAST-MODIFIED:20250912T134717Z
UID:10001288-1779094800-1779465600@commodore-yachting.com
SUMMARY:RYA Competent Crew / RYA Day Skipper - £749
DESCRIPTION:RYA Competent Crew / Day Skipper practical sailing course. \nConducted over 5 continuous days\, you’ll visit various different ports and marinas in the stunningly beautiful Solent\, under the watchful eye of one of our patient and attentive RYA-qualified Instructors. \nYou’ll get to experience the best sailing the Solent has to offer\, whilst eating and sleeping aboard one of our fabulous Bavaria Fleet Yachts each evening.
URL:https://commodore-yachting.com/course/rya-competent-crew-18-05-26/
LOCATION:Premier Gosport Marina\, Mumby Road\, Gosport\, Hampshire\, PO12 1AH
CATEGORIES:RYA Competent Crew,RYA Day Skipper,RYA Practical Courses
ORGANIZER;CN="Commodore Yachting":MAILTO:info@commodore-yachting.com
END:VEVENT
BEGIN:VEVENT
DTSTART;TZID=Europe/London:20260523T090000
DTEND;TZID=Europe/London:20260531T160000
DTSTAMP:20260420T151502
CREATED:20251216T180812Z
LAST-MODIFIED:20260413T134859Z
UID:10001389-1779526800-1780243200@commodore-yachting.com
SUMMARY:RYA Competent Crew / RYA Day Skipper (Split Weekends) – £849
DESCRIPTION:RYA Competent Crew / Day Skipper practical sailing course. \nConducted over 2 split weekends (Check dates above and below for exact course format)\, you’ll visit various different ports and marinas in the stunningly beautiful Solent\, under the watchful eye of one of our patient and attentive RYA-qualified Instructors. \nYou’ll get to experience the best sailing the Solent has to offer\, whilst eating and sleeping aboard one of our fabulous Bavaria Fleet Yachts each evening.
URL:https://commodore-yachting.com/course/rya-competent-crew-23-05-26/
LOCATION:Premier Gosport Marina\, Mumby Road\, Gosport\, Hampshire\, PO12 1AH
CATEGORIES:RYA Competent Crew,RYA Day Skipper,RYA Practical Courses
ORGANIZER;CN="Commodore Yachting":MAILTO:info@commodore-yachting.com
END:VEVENT
BEGIN:VEVENT
DTSTART;TZID=Europe/London:20260525T090000
DTEND;TZID=Europe/London:20260529T160000
DTSTAMP:20260420T151502
CREATED:20250912T134743Z
LAST-MODIFIED:20250912T135055Z
UID:10001289-1779699600-1780070400@commodore-yachting.com
SUMMARY:RYA Competent Crew / RYA Day Skipper - £749
DESCRIPTION:RYA Competent Crew / Day Skipper practical sailing course. \nConducted over 5 continuous days\, you’ll visit various different ports and marinas in the stunningly beautiful Solent\, under the watchful eye of one of our patient and attentive RYA-qualified Instructors. \nYou’ll get to experience the best sailing the Solent has to offer\, whilst eating and sleeping aboard one of our fabulous Bavaria Fleet Yachts each evening.
URL:https://commodore-yachting.com/course/rya-competent-crew-25-05-26/
LOCATION:Premier Gosport Marina\, Mumby Road\, Gosport\, Hampshire\, PO12 1AH
CATEGORIES:RYA Competent Crew,RYA Day Skipper,RYA Practical Courses
ORGANIZER;CN="Commodore Yachting":MAILTO:info@commodore-yachting.com
END:VEVENT
BEGIN:VEVENT
DTSTART;TZID=Europe/London:20260527T090000
DTEND;TZID=Europe/London:20260531T160000
DTSTAMP:20260420T151502
CREATED:20260418T093244Z
LAST-MODIFIED:20260418T093930Z
UID:10001412-1779872400-1780243200@commodore-yachting.com
SUMMARY:RYA Competent Crew / RYA Day Skipper - £799
DESCRIPTION:RYA Competent Crew / Day Skipper practical sailing course. \nConducted over 5 continuous days\, you’ll visit various different ports and marinas in the stunningly beautiful Solent\, under the watchful eye of one of our patient and attentive RYA-qualified Instructors. \nYou’ll get to experience the best sailing the Solent has to offer\, whilst eating and sleeping aboard one of our fabulous Bavaria Fleet Yachts each evening.
URL:https://commodore-yachting.com/course/rya-competent-crew-27-05-26/
LOCATION:Premier Gosport Marina\, Mumby Road\, Gosport\, Hampshire\, PO12 1AH
CATEGORIES:RYA Competent Crew,RYA Day Skipper,RYA Practical Courses
ORGANIZER;CN="Commodore Yachting":MAILTO:info@commodore-yachting.com
END:VEVENT
END:VCALENDAR