BEGIN:VCALENDAR
VERSION:2.0
PRODID:-//Commodore Yachting - ECPv6.15.17.1//NONSGML v1.0//EN
CALSCALE:GREGORIAN
METHOD:PUBLISH
X-WR-CALNAME:Commodore Yachting
X-ORIGINAL-URL:https://commodore-yachting.com
X-WR-CALDESC:Events for Commodore Yachting
REFRESH-INTERVAL;VALUE=DURATION:PT1H
X-Robots-Tag:noindex
X-PUBLISHED-TTL:PT1H
BEGIN:VTIMEZONE
TZID:Europe/London
BEGIN:DAYLIGHT
TZOFFSETFROM:+0000
TZOFFSETTO:+0100
TZNAME:BST
DTSTART:20240331T010000
END:DAYLIGHT
BEGIN:STANDARD
TZOFFSETFROM:+0100
TZOFFSETTO:+0000
TZNAME:GMT
DTSTART:20241027T010000
END:STANDARD
BEGIN:DAYLIGHT
TZOFFSETFROM:+0000
TZOFFSETTO:+0100
TZNAME:BST
DTSTART:20250330T010000
END:DAYLIGHT
BEGIN:STANDARD
TZOFFSETFROM:+0100
TZOFFSETTO:+0000
TZNAME:GMT
DTSTART:20251026T010000
END:STANDARD
BEGIN:DAYLIGHT
TZOFFSETFROM:+0000
TZOFFSETTO:+0100
TZNAME:BST
DTSTART:20260329T010000
END:DAYLIGHT
BEGIN:STANDARD
TZOFFSETFROM:+0100
TZOFFSETTO:+0000
TZNAME:GMT
DTSTART:20261025T010000
END:STANDARD
END:VTIMEZONE
BEGIN:VEVENT
DTSTART;TZID=Europe/London:20250808T180000
DTEND;TZID=Europe/London:20250810T160000
DTSTAMP:20260423T153349
CREATED:20250719T133915Z
LAST-MODIFIED:20250807T075350Z
UID:10001234-1754676000-1754841600@commodore-yachting.com
SUMMARY:Mile Builder Weekend / Start Yachting - £349
DESCRIPTION:
URL:https://commodore-yachting.com/course/mile-builder-weekend-08-08-25-2/
LOCATION:Premier Gosport Marina\, Mumby Road\, Gosport\, Hampshire\, PO12 1AH
CATEGORIES:Beyond The Solent Weeks/Weekends,Mile Building Weekend,RYA Practical Courses,RYA Start Yachting,Specialist Sailing Courses & Events
ORGANIZER;CN="Commodore Yachting":MAILTO:info@commodore-yachting.com
END:VEVENT
BEGIN:VEVENT
DTSTART;TZID=Europe/London:20250809T090000
DTEND;TZID=Europe/London:20250810T170000
DTSTAMP:20260423T153349
CREATED:20240928T082543Z
LAST-MODIFIED:20240928T082543Z
UID:10001030-1754730000-1754845200@commodore-yachting.com
SUMMARY:RYA Start Yachting - £349
DESCRIPTION:RYA Start Yachting
URL:https://commodore-yachting.com/course/rya-start-yachting-09-08-25/
LOCATION:Premier Gosport Marina\, Mumby Road\, Gosport\, Hampshire\, PO12 1AH
CATEGORIES:RYA Practical Courses,RYA Start Yachting
ORGANIZER;CN="Commodore Yachting":MAILTO:info@commodore-yachting.com
END:VEVENT
BEGIN:VEVENT
DTSTART;TZID=Europe/London:20250815T190000
DTEND;TZID=Europe/London:20250817T160000
DTSTAMP:20260423T153349
CREATED:20250802T101852Z
LAST-MODIFIED:20250804T120142Z
UID:10001236-1755284400-1755446400@commodore-yachting.com
SUMMARY:Mile Builder Weekend / Start Yachting - £349
DESCRIPTION:
URL:https://commodore-yachting.com/course/mile-builder-weekend-15-08-25/
LOCATION:Premier Gosport Marina\, Mumby Road\, Gosport\, Hampshire\, PO12 1AH
CATEGORIES:Beyond The Solent Weeks/Weekends,Mile Building Weekend,RYA Practical Courses,RYA Start Yachting,Specialist Sailing Courses & Events
ORGANIZER;CN="Commodore Yachting":MAILTO:info@commodore-yachting.com
END:VEVENT
END:VCALENDAR