BEGIN:VCALENDAR
VERSION:2.0
PRODID:-//Commodore Yachting - ECPv6.15.17.1//NONSGML v1.0//EN
CALSCALE:GREGORIAN
METHOD:PUBLISH
X-ORIGINAL-URL:https://commodore-yachting.com
X-WR-CALDESC:Events for Commodore Yachting
REFRESH-INTERVAL;VALUE=DURATION:PT1H
X-Robots-Tag:noindex
X-PUBLISHED-TTL:PT1H
BEGIN:VTIMEZONE
TZID:Europe/London
BEGIN:DAYLIGHT
TZOFFSETFROM:+0000
TZOFFSETTO:+0100
TZNAME:BST
DTSTART:20250330T010000
END:DAYLIGHT
BEGIN:STANDARD
TZOFFSETFROM:+0100
TZOFFSETTO:+0000
TZNAME:GMT
DTSTART:20251026T010000
END:STANDARD
BEGIN:DAYLIGHT
TZOFFSETFROM:+0000
TZOFFSETTO:+0100
TZNAME:BST
DTSTART:20260329T010000
END:DAYLIGHT
BEGIN:STANDARD
TZOFFSETFROM:+0100
TZOFFSETTO:+0000
TZNAME:GMT
DTSTART:20261025T010000
END:STANDARD
BEGIN:DAYLIGHT
TZOFFSETFROM:+0000
TZOFFSETTO:+0100
TZNAME:BST
DTSTART:20270328T010000
END:DAYLIGHT
BEGIN:STANDARD
TZOFFSETFROM:+0100
TZOFFSETTO:+0000
TZNAME:GMT
DTSTART:20271031T010000
END:STANDARD
END:VTIMEZONE
BEGIN:VEVENT
DTSTART;TZID=Europe/London:20260424T190000
DTEND;TZID=Europe/London:20260426T160000
DTSTAMP:20260423T111120
CREATED:20250910T103246Z
LAST-MODIFIED:20250910T135817Z
UID:10001252-1777057200-1777219200@commodore-yachting.com
SUMMARY:Mile Builder Weekend / Start Yachting - £349
DESCRIPTION:No prior knowledge is required; it’s ideal for newly qualified RYA Competent Crew or Day Skipper holders. Groups are limited to 6 participants yachts\, with  guidance from RYA-qualified instructors. \nThe course covers practical skills like helming\, sail trim\, navigation\, tidal calculations\, and crew teamwork. It includes and evening meal\, accommodation\, yacht hire\, fuel\, wet weather gear\, and life jackets. Safety is paramount so a flexible planning approach is used with locations of where we go. \nStarts Friday evening at 6-7pm for maximum mileage
URL:https://commodore-yachting.com/course/mile-builder-weekend-24-04-26/
LOCATION:Premier Gosport Marina\, Mumby Road\, Gosport\, Hampshire\, PO12 1AH
CATEGORIES:Beyond The Solent Weeks/Weekends,Mile Building Weekend,RYA Practical Courses,RYA Start Yachting,Solent Sailing Weekend,Specialist Sailing Courses & Events
ORGANIZER;CN="Commodore Yachting":MAILTO:info@commodore-yachting.com
END:VEVENT
BEGIN:VEVENT
DTSTART;TZID=Europe/London:20260508T190000
DTEND;TZID=Europe/London:20260510T160000
DTSTAMP:20260423T111120
CREATED:20250910T135857Z
LAST-MODIFIED:20250910T140151Z
UID:10001258-1778266800-1778428800@commodore-yachting.com
SUMMARY:Mile Builder Weekend / Start Yachting - £349
DESCRIPTION:No prior knowledge is required; it’s ideal for newly qualified RYA Competent Crew or Day Skipper holders. Groups are limited to 6 participants yachts\, with  guidance from RYA-qualified instructors. \nThe course covers practical skills like helming\, sail trim\, navigation\, tidal calculations\, and crew teamwork. It includes and evening meal\, accommodation\, yacht hire\, fuel\, wet weather gear\, and life jackets. Safety is paramount so a flexible planning approach is used with locations of where we go. \nStarts Friday evening at 6-7pm for maximum mileage
URL:https://commodore-yachting.com/course/mile-builder-weekend-08-05-26/
LOCATION:Premier Gosport Marina\, Mumby Road\, Gosport\, Hampshire\, PO12 1AH
CATEGORIES:Beyond The Solent Weeks/Weekends,Mile Building Weekend,RYA Practical Courses,RYA Start Yachting,Solent Sailing Weekend,Specialist Sailing Courses & Events
ORGANIZER;CN="Commodore Yachting":MAILTO:info@commodore-yachting.com
END:VEVENT
BEGIN:VEVENT
DTSTART;TZID=Europe/London:20260605T190000
DTEND;TZID=Europe/London:20260607T160000
DTSTAMP:20260423T111120
CREATED:20250910T140218Z
LAST-MODIFIED:20250910T143930Z
UID:10001259-1780686000-1780848000@commodore-yachting.com
SUMMARY:Mile Builder Weekend / Start Yachting - £369
DESCRIPTION:No prior knowledge is required; it’s ideal for newly qualified RYA Competent Crew or Day Skipper holders. Groups are limited to 6 participants yachts\, with  guidance from RYA-qualified instructors. \nThe course covers practical skills like helming\, sail trim\, navigation\, tidal calculations\, and crew teamwork. It includes and evening meal\, accommodation\, yacht hire\, fuel\, wet weather gear\, and life jackets. Safety is paramount so a flexible planning approach is used with locations of where we go. \nStarts Friday evening at 6-7pm for maximum mileage
URL:https://commodore-yachting.com/course/mile-builder-weekend-05-06-26/
LOCATION:Premier Gosport Marina\, Mumby Road\, Gosport\, Hampshire\, PO12 1AH
CATEGORIES:Beyond The Solent Weeks/Weekends,Mile Building Weekend,RYA Practical Courses,RYA Start Yachting,Solent Sailing Weekend,Specialist Sailing Courses & Events
ORGANIZER;CN="Commodore Yachting":MAILTO:info@commodore-yachting.com
END:VEVENT
BEGIN:VEVENT
DTSTART;TZID=Europe/London:20260619T190000
DTEND;TZID=Europe/London:20260621T160000
DTSTAMP:20260423T111120
CREATED:20250910T144003Z
LAST-MODIFIED:20250910T144327Z
UID:10001260-1781895600-1782057600@commodore-yachting.com
SUMMARY:Mile Builder Weekend / Start Yachting - £369
DESCRIPTION:No prior knowledge is required; it’s ideal for newly qualified RYA Competent Crew or Day Skipper holders. Groups are limited to 6 participants yachts\, with  guidance from RYA-qualified instructors. \nThe course covers practical skills like helming\, sail trim\, navigation\, tidal calculations\, and crew teamwork. It includes and evening meal\, accommodation\, yacht hire\, fuel\, wet weather gear\, and life jackets. Safety is paramount so a flexible planning approach is used with locations of where we go. \nStarts Friday evening at 6-7pm for maximum mileage
URL:https://commodore-yachting.com/course/mile-builder-weekend-19-06-26/
LOCATION:Premier Gosport Marina\, Mumby Road\, Gosport\, Hampshire\, PO12 1AH
CATEGORIES:Beyond The Solent Weeks/Weekends,Mile Building Weekend,RYA Practical Courses,RYA Start Yachting,Solent Sailing Weekend,Specialist Sailing Courses & Events
ORGANIZER;CN="Commodore Yachting":MAILTO:info@commodore-yachting.com
END:VEVENT
BEGIN:VEVENT
DTSTART;TZID=Europe/London:20260703T190000
DTEND;TZID=Europe/London:20260705T160000
DTSTAMP:20260423T111120
CREATED:20250910T144349Z
LAST-MODIFIED:20250910T144643Z
UID:10001261-1783105200-1783267200@commodore-yachting.com
SUMMARY:Mile Builder Weekend / Start Yachting - £369
DESCRIPTION:No prior knowledge is required; it’s ideal for newly qualified RYA Competent Crew or Day Skipper holders. Groups are limited to 6 participants yachts\, with  guidance from RYA-qualified instructors. \nThe course covers practical skills like helming\, sail trim\, navigation\, tidal calculations\, and crew teamwork. It includes and evening meal\, accommodation\, yacht hire\, fuel\, wet weather gear\, and life jackets. Safety is paramount so a flexible planning approach is used with locations of where we go. \nStarts Friday evening at 6-7pm for maximum mileage
URL:https://commodore-yachting.com/course/mile-builder-weekend-03-07-26/
LOCATION:Premier Gosport Marina\, Mumby Road\, Gosport\, Hampshire\, PO12 1AH
CATEGORIES:Beyond The Solent Weeks/Weekends,Mile Building Weekend,RYA Practical Courses,RYA Start Yachting,Solent Sailing Weekend,Specialist Sailing Courses & Events
ORGANIZER;CN="Commodore Yachting":MAILTO:info@commodore-yachting.com
END:VEVENT
BEGIN:VEVENT
DTSTART;TZID=Europe/London:20260717T190000
DTEND;TZID=Europe/London:20260719T160000
DTSTAMP:20260423T111120
CREATED:20250910T144707Z
LAST-MODIFIED:20250910T144945Z
UID:10001262-1784314800-1784476800@commodore-yachting.com
SUMMARY:Mile Builder Weekend / Start Yachting - £369
DESCRIPTION:No prior knowledge is required; it’s ideal for newly qualified RYA Competent Crew or Day Skipper holders. Groups are limited to 6 participants yachts\, with  guidance from RYA-qualified instructors. \nThe course covers practical skills like helming\, sail trim\, navigation\, tidal calculations\, and crew teamwork. It includes and evening meal\, accommodation\, yacht hire\, fuel\, wet weather gear\, and life jackets. Safety is paramount so a flexible planning approach is used with locations of where we go. \nStarts Friday evening at 6-7pm for maximum mileage
URL:https://commodore-yachting.com/course/mile-builder-weekend-17-07-26/
LOCATION:Premier Gosport Marina\, Mumby Road\, Gosport\, Hampshire\, PO12 1AH
CATEGORIES:Beyond The Solent Weeks/Weekends,Mile Building Weekend,RYA Practical Courses,RYA Start Yachting,Solent Sailing Weekend,Specialist Sailing Courses & Events
ORGANIZER;CN="Commodore Yachting":MAILTO:info@commodore-yachting.com
END:VEVENT
BEGIN:VEVENT
DTSTART;TZID=Europe/London:20260731T190000
DTEND;TZID=Europe/London:20260802T160000
DTSTAMP:20260423T111120
CREATED:20250910T145007Z
LAST-MODIFIED:20250910T145428Z
UID:10001263-1785524400-1785686400@commodore-yachting.com
SUMMARY:Mile Builder Weekend / Start Yachting - £389
DESCRIPTION:No prior knowledge is required; it’s ideal for newly qualified RYA Competent Crew or Day Skipper holders. Groups are limited to 6 participants yachts\, with  guidance from RYA-qualified instructors. \nThe course covers practical skills like helming\, sail trim\, navigation\, tidal calculations\, and crew teamwork. It includes and evening meal\, accommodation\, yacht hire\, fuel\, wet weather gear\, and life jackets. Safety is paramount so a flexible planning approach is used with locations of where we go. \nStarts Friday evening at 6-7pm for maximum mileage
URL:https://commodore-yachting.com/course/mile-builder-weekend-31-07-26/
LOCATION:Premier Gosport Marina\, Mumby Road\, Gosport\, Hampshire\, PO12 1AH
CATEGORIES:Beyond The Solent Weeks/Weekends,Mile Building Weekend,RYA Practical Courses,RYA Start Yachting,Solent Sailing Weekend,Specialist Sailing Courses & Events
ORGANIZER;CN="Commodore Yachting":MAILTO:info@commodore-yachting.com
END:VEVENT
BEGIN:VEVENT
DTSTART;TZID=Europe/London:20260821T190000
DTEND;TZID=Europe/London:20260823T160000
DTSTAMP:20260423T111120
CREATED:20250910T135440Z
LAST-MODIFIED:20250910T145808Z
UID:10001257-1787338800-1787500800@commodore-yachting.com
SUMMARY:Mile Builder Weekend / Start Yachting - £389
DESCRIPTION:No prior knowledge is required; it’s ideal for newly qualified RYA Competent Crew or Day Skipper holders. Groups are limited to 6 participants yachts\, with  guidance from RYA-qualified instructors. \nThe course covers practical skills like helming\, sail trim\, navigation\, tidal calculations\, and crew teamwork. It includes and evening meal\, accommodation\, yacht hire\, fuel\, wet weather gear\, and life jackets. Safety is paramount so a flexible planning approach is used with locations of where we go. \nStarts Friday evening at 6-7pm for maximum mileage
URL:https://commodore-yachting.com/course/mile-builder-weekend-21-08-26/
LOCATION:Premier Gosport Marina\, Mumby Road\, Gosport\, Hampshire\, PO12 1AH
CATEGORIES:Beyond The Solent Weeks/Weekends,Mile Building Weekend,RYA Practical Courses,RYA Start Yachting,Solent Sailing Weekend,Specialist Sailing Courses & Events
ORGANIZER;CN="Commodore Yachting":MAILTO:info@commodore-yachting.com
END:VEVENT
BEGIN:VEVENT
DTSTART;TZID=Europe/London:20260904T190000
DTEND;TZID=Europe/London:20260906T160000
DTSTAMP:20260423T111120
CREATED:20250910T145901Z
LAST-MODIFIED:20250910T150755Z
UID:10001264-1788548400-1788710400@commodore-yachting.com
SUMMARY:Mile Builder Weekend / Start Yachting - £369
DESCRIPTION:No prior knowledge is required; it’s ideal for newly qualified RYA Competent Crew or Day Skipper holders. Groups are limited to 6 participants yachts\, with  guidance from RYA-qualified instructors. \nThe course covers practical skills like helming\, sail trim\, navigation\, tidal calculations\, and crew teamwork. It includes and evening meal\, accommodation\, yacht hire\, fuel\, wet weather gear\, and life jackets. Safety is paramount so a flexible planning approach is used with locations of where we go. \nStarts Friday evening at 6-7pm for maximum mileage
URL:https://commodore-yachting.com/course/mile-builder-weekend-04-09-26/
LOCATION:Premier Gosport Marina\, Mumby Road\, Gosport\, Hampshire\, PO12 1AH
CATEGORIES:Beyond The Solent Weeks/Weekends,Mile Building Weekend,RYA Practical Courses,RYA Start Yachting,Solent Sailing Weekend,Specialist Sailing Courses & Events
ORGANIZER;CN="Commodore Yachting":MAILTO:info@commodore-yachting.com
END:VEVENT
BEGIN:VEVENT
DTSTART;TZID=Europe/London:20260918T190000
DTEND;TZID=Europe/London:20260920T160000
DTSTAMP:20260423T111120
CREATED:20250910T150837Z
LAST-MODIFIED:20250910T151323Z
UID:10001265-1789758000-1789920000@commodore-yachting.com
SUMMARY:Mile Builder Weekend / Start Yachting - £369
DESCRIPTION:No prior knowledge is required; it’s ideal for newly qualified RYA Competent Crew or Day Skipper holders. Groups are limited to 6 participants yachts\, with  guidance from RYA-qualified instructors. \nThe course covers practical skills like helming\, sail trim\, navigation\, tidal calculations\, and crew teamwork. It includes and evening meal\, accommodation\, yacht hire\, fuel\, wet weather gear\, and life jackets. Safety is paramount so a flexible planning approach is used with locations of where we go. \nStarts Friday evening at 6-7pm for maximum mileage
URL:https://commodore-yachting.com/course/mile-builder-weekend-18-09-26/
LOCATION:Premier Gosport Marina\, Mumby Road\, Gosport\, Hampshire\, PO12 1AH
CATEGORIES:Beyond The Solent Weeks/Weekends,Mile Building Weekend,RYA Practical Courses,RYA Start Yachting,Solent Sailing Weekend,Specialist Sailing Courses & Events
ORGANIZER;CN="Commodore Yachting":MAILTO:info@commodore-yachting.com
END:VEVENT
BEGIN:VEVENT
DTSTART;TZID=Europe/London:20261016T190000
DTEND;TZID=Europe/London:20261018T160000
DTSTAMP:20260423T111120
CREATED:20250910T134151Z
LAST-MODIFIED:20250910T152113Z
UID:10001255-1792177200-1792339200@commodore-yachting.com
SUMMARY:Mile Builder Weekend / Start Yachting - £349
DESCRIPTION:No prior knowledge is required; it’s ideal for newly qualified RYA Competent Crew or Day Skipper holders. Groups are limited to 6 participants yachts\, with  guidance from RYA-qualified instructors. \nThe course covers practical skills like helming\, sail trim\, navigation\, tidal calculations\, and crew teamwork. It includes and evening meal\, accommodation\, yacht hire\, fuel\, wet weather gear\, and life jackets. Safety is paramount so a flexible planning approach is used with locations of where we go. \nStarts Friday evening at 6-7pm for maximum mileage
URL:https://commodore-yachting.com/course/mile-builder-weekend-16-10-26/
LOCATION:Premier Gosport Marina\, Mumby Road\, Gosport\, Hampshire\, PO12 1AH
CATEGORIES:Beyond The Solent Weeks/Weekends,Mile Building Weekend,RYA Practical Courses,RYA Start Yachting,Solent Sailing Weekend,Specialist Sailing Courses & Events
ORGANIZER;CN="Commodore Yachting":MAILTO:info@commodore-yachting.com
END:VEVENT
BEGIN:VEVENT
DTSTART;TZID=Europe/London:20261030T190000
DTEND;TZID=Europe/London:20261101T160000
DTSTAMP:20260423T111120
CREATED:20250910T152201Z
LAST-MODIFIED:20250910T152500Z
UID:10001266-1793386800-1793548800@commodore-yachting.com
SUMMARY:Mile Builder Weekend / Start Yachting - £349
DESCRIPTION:No prior knowledge is required; it’s ideal for newly qualified RYA Competent Crew or Day Skipper holders. Groups are limited to 6 participants yachts\, with  guidance from RYA-qualified instructors. \nThe course covers practical skills like helming\, sail trim\, navigation\, tidal calculations\, and crew teamwork. It includes and evening meal\, accommodation\, yacht hire\, fuel\, wet weather gear\, and life jackets. Safety is paramount so a flexible planning approach is used with locations of where we go. \nStarts Friday evening at 6-7pm for maximum mileage
URL:https://commodore-yachting.com/course/mile-builder-weekend-30-10-26/
LOCATION:Premier Gosport Marina\, Mumby Road\, Gosport\, Hampshire\, PO12 1AH
CATEGORIES:Beyond The Solent Weeks/Weekends,Mile Building Weekend,RYA Practical Courses,RYA Start Yachting,Solent Sailing Weekend,Specialist Sailing Courses & Events
ORGANIZER;CN="Commodore Yachting":MAILTO:info@commodore-yachting.com
END:VEVENT
BEGIN:VEVENT
DTSTART;TZID=Europe/London:20261113T190000
DTEND;TZID=Europe/London:20261115T160000
DTSTAMP:20260423T111120
CREATED:20250910T152604Z
LAST-MODIFIED:20250910T152747Z
UID:10001267-1794596400-1794758400@commodore-yachting.com
SUMMARY:Mile Builder Weekend / Start Yachting - £349
DESCRIPTION:No prior knowledge is required; it’s ideal for newly qualified RYA Competent Crew or Day Skipper holders. Groups are limited to 6 participants yachts\, with  guidance from RYA-qualified instructors. \nThe course covers practical skills like helming\, sail trim\, navigation\, tidal calculations\, and crew teamwork. It includes and evening meal\, accommodation\, yacht hire\, fuel\, wet weather gear\, and life jackets. Safety is paramount so a flexible planning approach is used with locations of where we go. \nStarts Friday evening at 6-7pm for maximum mileage
URL:https://commodore-yachting.com/course/mile-builder-weekend-13-11-26/
LOCATION:Premier Gosport Marina\, Mumby Road\, Gosport\, Hampshire\, PO12 1AH
CATEGORIES:Beyond The Solent Weeks/Weekends,Mile Building Weekend,RYA Practical Courses,RYA Start Yachting,Solent Sailing Weekend,Specialist Sailing Courses & Events
ORGANIZER;CN="Commodore Yachting":MAILTO:info@commodore-yachting.com
END:VEVENT
BEGIN:VEVENT
DTSTART;TZID=Europe/London:20261127T190000
DTEND;TZID=Europe/London:20261129T160000
DTSTAMP:20260423T111120
CREATED:20250910T093928Z
LAST-MODIFIED:20250910T152537Z
UID:10001250-1795806000-1795968000@commodore-yachting.com
SUMMARY:Mile Builder Weekend / Start Yachting - £349
DESCRIPTION:No prior knowledge is required; it’s ideal for newly qualified RYA Competent Crew or Day Skipper holders. Groups are limited to 6 participants yachts\, with  guidance from RYA-qualified instructors. \nThe course covers practical skills like helming\, sail trim\, navigation\, tidal calculations\, and crew teamwork. It includes and evening meal\, accommodation\, yacht hire\, fuel\, wet weather gear\, and life jackets. Safety is paramount so a flexible planning approach is used with locations of where we go. \nStarts Friday evening at 6-7pm for maximum mileage
URL:https://commodore-yachting.com/course/mile-builder-weekend-28-11-26/
LOCATION:Premier Gosport Marina\, Mumby Road\, Gosport\, Hampshire\, PO12 1AH
CATEGORIES:Beyond The Solent Weeks/Weekends,Mile Building Weekend,RYA Practical Courses,RYA Start Yachting,Solent Sailing Weekend,Specialist Sailing Courses & Events
ORGANIZER;CN="Commodore Yachting":MAILTO:info@commodore-yachting.com
END:VEVENT
BEGIN:VEVENT
DTSTART;TZID=Europe/London:20261127T190000
DTEND;TZID=Europe/London:20261129T160000
DTSTAMP:20260423T111120
CREATED:20250913T170051Z
LAST-MODIFIED:20250918T145802Z
UID:10001334-1795806000-1795968000@commodore-yachting.com
SUMMARY:Mile Builder Weekend / Start Yachting - £349
DESCRIPTION:No prior knowledge is required; it’s ideal for newly qualified RYA Competent Crew or Day Skipper holders. Groups are limited to 6 participants yachts\, with  guidance from RYA-qualified instructors. \nThe course covers practical skills like helming\, sail trim\, navigation\, tidal calculations\, and crew teamwork. It includes and evening meal\, accommodation\, yacht hire\, fuel\, wet weather gear\, and life jackets. Safety is paramount so a flexible planning approach is used with locations of where we go. \nStarts Friday evening at 6-7pm for maximum mileage
URL:https://commodore-yachting.com/course/mile-builder-weekend-27-11-26/
LOCATION:Premier Gosport Marina\, Mumby Road\, Gosport\, Hampshire\, PO12 1AH
CATEGORIES:Beyond The Solent Weeks/Weekends,Mile Building Weekend,RYA Practical Courses,RYA Start Yachting,Solent Sailing Weekend,Specialist Sailing Courses & Events
ORGANIZER;CN="Commodore Yachting":MAILTO:info@commodore-yachting.com
END:VEVENT
END:VCALENDAR