BEGIN:VCALENDAR
VERSION:2.0
PRODID:-//Commodore Yachting - ECPv6.15.17.1//NONSGML v1.0//EN
CALSCALE:GREGORIAN
METHOD:PUBLISH
X-WR-CALNAME:Commodore Yachting
X-ORIGINAL-URL:https://commodore-yachting.com
X-WR-CALDESC:Events for Commodore Yachting
REFRESH-INTERVAL;VALUE=DURATION:PT1H
X-Robots-Tag:noindex
X-PUBLISHED-TTL:PT1H
BEGIN:VTIMEZONE
TZID:Europe/London
BEGIN:DAYLIGHT
TZOFFSETFROM:+0000
TZOFFSETTO:+0100
TZNAME:BST
DTSTART:20250330T010000
END:DAYLIGHT
BEGIN:STANDARD
TZOFFSETFROM:+0100
TZOFFSETTO:+0000
TZNAME:GMT
DTSTART:20251026T010000
END:STANDARD
BEGIN:DAYLIGHT
TZOFFSETFROM:+0000
TZOFFSETTO:+0100
TZNAME:BST
DTSTART:20260329T010000
END:DAYLIGHT
BEGIN:STANDARD
TZOFFSETFROM:+0100
TZOFFSETTO:+0000
TZNAME:GMT
DTSTART:20261025T010000
END:STANDARD
BEGIN:DAYLIGHT
TZOFFSETFROM:+0000
TZOFFSETTO:+0100
TZNAME:BST
DTSTART:20270328T010000
END:DAYLIGHT
BEGIN:STANDARD
TZOFFSETFROM:+0100
TZOFFSETTO:+0000
TZNAME:GMT
DTSTART:20271031T010000
END:STANDARD
END:VTIMEZONE
BEGIN:VEVENT
DTSTART;TZID=Europe/London:20260606T090000
DTEND;TZID=Europe/London:20260612T170000
DTSTAMP:20260422T124354
CREATED:20251001T111417Z
LAST-MODIFIED:20251001T112346Z
UID:10001350-1780736400-1781283600@commodore-yachting.com
SUMMARY:RYA Yachtmaster Coastal / Offshore Preparation Week - £1\,395
DESCRIPTION:RYA Yachtmaster Coastal/Offshore Preparation Week
URL:https://commodore-yachting.com/course/rya-yachtmaster-practical-06-06-26/
LOCATION:Premier Gosport Marina\, Mumby Road\, Gosport\, Hampshire\, PO12 1AH
CATEGORIES:RYA Practical Courses,Yachtmaster Coastal/Offshore Preparation Week
ORGANIZER;CN="Commodore Yachting":MAILTO:info@commodore-yachting.com
END:VEVENT
END:VCALENDAR